BEGIN:VCALENDAR
VERSION:2.0
PRODID:-//ChamberMaster//Event Calendar 2.0//EN
METHOD:PUBLISH
X-PUBLISHED-TTL:P3D
REFRESH-INTERVAL:P3D
CALSCALE:GREGORIAN
BEGIN:VEVENT
DTSTART;VALUE=DATE:19981017
DTEND;VALUE=DATE:19981018
TRANSP:TRANSPARENT
X-MICROSOFT-CDO-ALLDAYEVENT:TRUE
SUMMARY:Auction 1998 - Corporate Sponsorship
DESCRIPTION:$550 for table of eight\, signage at table\, etc.
X-ALT-DESC;FMTTYPE=text/html:$550 for table of eight\, signage at table\, etc.
LOCATION:
UID:e.1175.6
SEQUENCE:3
DTSTAMP:20260420T151629Z
URL:https://business.rockwallchamber.org/events/details/auction-1998-corporate-sponsorship-10-17-1998-6
END:VEVENT

END:VCALENDAR
