BEGIN:VCALENDAR
VERSION:2.0
PRODID:-//ChamberMaster//Event Calendar 2.0//EN
METHOD:PUBLISH
X-PUBLISHED-TTL:P3D
REFRESH-INTERVAL:P3D
CALSCALE:GREGORIAN
BEGIN:VEVENT
DTSTART:20250919T220000Z
DTEND:20250920T040000Z
X-MICROSOFT-CDO-ALLDAYEVENT:FALSE
SUMMARY:Beer Me! Oktoberfest Celebration
DESCRIPTION:Raise a stein and celebrate Oktoberfest\, Beer Me! style! Proudly sponsored by Sam Adams and Oak Highlands Brewery\n\nGames & Fun\n\n  Stein Hoisting \n\n  Pretzel Toss \n\n  Swag and Giveaways \n\nOn Tap\n\n  Special Oktoberfest flights \n\n  A huge singles selection in our mix-and-match cooler \n\nRound up your crew\, throw on your best Oktoberfest fit\, and come toast with us. Prost!
X-ALT-DESC;FMTTYPE=text/html:<p>Raise a stein and celebrate Oktoberfest\, Beer Me! style! Proudly sponsored by Sam Adams and Oak Highlands Brewery</p>\n\n<p>Games &amp\; Fun</p>\n\n<p>&bull\; Stein Hoisting&nbsp\;</p>\n\n<p>&bull\; Pretzel Toss&nbsp\;</p>\n\n<p>&bull\; Swag and Giveaways&nbsp\;</p>\n\n<p>On Tap</p>\n\n<p>&bull\; Special Oktoberfest flights&nbsp\;</p>\n\n<p>&bull\; A huge singles selection in our mix-and-match cooler&nbsp\;</p>\n\n<p>Round up your crew\, throw on your best Oktoberfest fit\, and come toast with us. Prost!&nbsp\;</p>\n\n<div>&nbsp\;</div>\n
LOCATION:131 East Main Pl. Suite 103
UID:e.1175.143454
SEQUENCE:3
DTSTAMP:20260421T212133Z
URL:https://business.rockwallchamber.org/events/details/beer-me-oktoberfest-celebration-143454
END:VEVENT

END:VCALENDAR
