BEGIN:VCALENDAR
VERSION:2.0
PRODID:-//ChamberMaster//Event Calendar 2.0//EN
METHOD:PUBLISH
X-PUBLISHED-TTL:P3D
REFRESH-INTERVAL:P3D
CALSCALE:GREGORIAN
BEGIN:VEVENT
DTSTART:20181206T173000Z
DTEND:20181206T190000Z
X-MICROSOFT-CDO-ALLDAYEVENT:FALSE
SUMMARY:Chamber Academy December 2018
DESCRIPTION:Join your local Rockwall Chamber of Commerce on December 6th from 11:45   1:00 and learn how you can grow your business through networking\, advertising\, and community involvement. A lunch will be provided at no cost to you.
X-ALT-DESC;FMTTYPE=text/html:J<span style="color: rgb(33\, 42\, 52)\; font-family: Arial\, sans-serif\; font-size: 12px\; white-space: pre-wrap\;">oin your local Rockwall Chamber of Commerce on December 6th from 11:45 &ndash\; 1:00 and learn how you can grow your business through networking\, advertising\, and community involvement. A lunch will be provided at no cost to you.</span>
LOCATION:
UID:e.1175.138585
SEQUENCE:3
DTSTAMP:20260425T035859Z
URL:https://business.rockwallchamber.org/events/details/chamber-academy-december-2018-138585
END:VEVENT

END:VCALENDAR
