BEGIN:VCALENDAR
VERSION:2.0
PRODID:-//ChamberMaster//Event Calendar 2.0//EN
METHOD:PUBLISH
X-PUBLISHED-TTL:P3D
REFRESH-INTERVAL:P3D
CALSCALE:GREGORIAN
BEGIN:VEVENT
DTSTART:20181216T163000Z
DTEND:20181216T173000Z
X-MICROSOFT-CDO-ALLDAYEVENT:FALSE
SUMMARY:Christmas Cantata
DESCRIPTION:Please join us for this year's Christmas Cantata\, " A Christmas Presence" by Pepper Choplin performed by the First United Methodist Church Chancel Choir and Orchestra.
X-ALT-DESC;FMTTYPE=text/html:Please join us for this year&#39\;s Christmas Cantata\, &quot\; A Christmas Presence&quot\; by Pepper Choplin performed by the First United Methodist Church Chancel Choir and Orchestra.
LOCATION:140 Smirl Drive Heath\, TX
UID:e.1175.138775
SEQUENCE:3
DTSTAMP:20260425T013930Z
URL:https://business.rockwallchamber.org/events/details/christmas-cantata-12-16-2018-138775
END:VEVENT

END:VCALENDAR
