BEGIN:VCALENDAR
VERSION:2.0
PRODID:-//ChamberMaster//Event Calendar 2.0//EN
METHOD:PUBLISH
X-PUBLISHED-TTL:P3D
REFRESH-INTERVAL:P3D
CALSCALE:GREGORIAN
BEGIN:VEVENT
DTSTART:20230512T130000Z
DTEND:20230512T190000Z
X-MICROSOFT-CDO-ALLDAYEVENT:FALSE
SUMMARY:East Trinity Masonic Lodge Scholarship Golf Classic
DESCRIPTION:Education has always been of utmost importance to the Freemasons of Rockwall County.  From building Rockwall's first school in 1855 to handing out dental kits to first graders each year\, the members of East Trinity Masonic Lodge strive to support future generations of our community.  We started a Scholarship Fund in 1988 to award scholarships to our area high school graduates.  Since that time\, we have awarded more than 160 totaling more than $250\,000.  Since 2012\, our primary source of funding has been our Annual Scholarship Golf Classic but due to Covid\, we suspended our tournament in 2020.  Despite not having a tournament for three years\, our members were committed to maintaining our recent scholarship levels.  During the last three years we awarded 18 scholarships totaling $54\,000.  Realizing that this internal funding is not sustainable\, we are optimistic that through the revival of our tournament and the generous support of community leaders like yourself\, we will continue to assist the young men and women of Rockwall County.
X-ALT-DESC;FMTTYPE=text/html:<span style="font-family:helvetica\; font-size:12px">Education has always been of utmost importance to the Freemasons of Rockwall County.&nbsp\; From building Rockwall&#39\;s first school in 1855 to handing out dental kits to first graders each year\, the members of East Trinity Masonic Lodge strive to support future generations of our community.&nbsp\; We started a Scholarship Fund in 1988 to award scholarships to our area high school graduates. &nbsp\;Since that time\, we have awarded more than 160 totaling more than $250\,000. &nbsp\;Since 2012\, our primary source of funding has been our Annual Scholarship Golf Classic but due to Covid\, we suspended our tournament in 2020. &nbsp\;Despite not having a tournament for three years\, our members were committed to maintaining our recent scholarship levels. &nbsp\;During the last three years we awarded 18 scholarships totaling $54\,000.&nbsp\;&nbsp\;</span><span style="font-family:helvetica\; font-size:12px">Realizing that this internal funding is not sustainable\, we are optimistic that through the revival of our tournament and the generous support of community leaders like yourself\, we will continue to assist the young men and women of Rockwall County.</span>
LOCATION:Buffalo Creek Golf Club 624 Country Club Drive Rockwall\, TX 75032
UID:e.1175.142071
SEQUENCE:3
DTSTAMP:20260421T082221Z
URL:https://business.rockwallchamber.org/events/details/east-trinity-masonic-lodge-scholarship-golf-classic-142071
END:VEVENT

END:VCALENDAR
