BEGIN:VCALENDAR
VERSION:2.0
PRODID:-//ChamberMaster//Event Calendar 2.0//EN
METHOD:PUBLISH
X-PUBLISHED-TTL:P3D
REFRESH-INTERVAL:P3D
CALSCALE:GREGORIAN
BEGIN:VEVENT
DTSTART:20260430T200000Z
DTEND:20260501T010000Z
X-MICROSOFT-CDO-ALLDAYEVENT:FALSE
SUMMARY:FirstLight Home Care of Rockwall
DESCRIPTION:This event is reserved for our valued referral partners and members of the Chamber of Commerce. We look forward to celebrating with those that support our mission and community connections.
X-ALT-DESC;FMTTYPE=text/html:This event is reserved for our valued referral partners and members of the Chamber of Commerce. We look forward to celebrating with those that support our mission and community connections.
LOCATION:The 501 Yacht Club 501 Yacht Club Drive Rockwall\, TX 75032
UID:e.1175.144247
SEQUENCE:3
DTSTAMP:20260424T072837Z
URL:https://business.rockwallchamber.org/events/details/firstlight-home-care-of-rockwall-144247
END:VEVENT

END:VCALENDAR
