BEGIN:VCALENDAR
VERSION:2.0
PRODID:-//ChamberMaster//Event Calendar 2.0//EN
METHOD:PUBLISH
X-PUBLISHED-TTL:P3D
REFRESH-INTERVAL:P3D
CALSCALE:GREGORIAN
BEGIN:VEVENT
DTSTART:20231019T210000Z
DTEND:20231020T000000Z
X-MICROSOFT-CDO-ALLDAYEVENT:FALSE
SUMMARY:Grand Opening - Reborn Skin & Beauty - New Location!
DESCRIPTION:We are so excited to welcome you to our new location Grand Opening party! We will celebrate with door prizes\, special event pricing\, light refreshments\, and more! Come by and say hi at our new location!
X-ALT-DESC;FMTTYPE=text/html:We are so excited to welcome you to our new location Grand Opening party! We will celebrate with door prizes\, special event pricing\, light refreshments\, and more! Come by and say hi at our new location!&nbsp\;
LOCATION:108 Saint Marys St. in Rockwall\, TX 75087
UID:e.1175.142385
SEQUENCE:3
DTSTAMP:20260420T225753Z
URL:https://business.rockwallchamber.org/events/details/grand-opening-ribbon-cutting-reborn-skin-beauty-new-location-142385
END:VEVENT

END:VCALENDAR
