BEGIN:VCALENDAR
VERSION:2.0
PRODID:-//ChamberMaster//Event Calendar 2.0//EN
METHOD:PUBLISH
X-PUBLISHED-TTL:P3D
REFRESH-INTERVAL:P3D
CALSCALE:GREGORIAN
BEGIN:VEVENT
DTSTART:20180426T150000Z
DTEND:20180426T190000Z
X-MICROSOFT-CDO-ALLDAYEVENT:FALSE
SUMMARY:Hilton Job Fair
DESCRIPTION:Interested in joining our award winning hotel? Bring your resume along to our job fair and learn more about the following positions: \n\n\n\n \n Sales Manager\n\n Restaurant Manager\n\n Groundskeeper/Engineer\n\n Room Attendant \n\n Housekeeping Houseman\n\n Servers - Splash\n\n PT Bartender - Splash\n\n Food Runner-Splash\n\n Banquet Servers (OC)\n\n Cooks
X-ALT-DESC;FMTTYPE=text/html:Interested in joining our award winning hotel? Bring your resume along to our job fair and learn more about the following positions:&nbsp\;<br />\n<br />\n&nbsp\;\n<div style="margin-left:.19in\; text-align:center"><span style="font-size:15.0pt"><span style="font-family:arial">&bull\;</span></span><span style="color:#002060"><span style="font-family:calibri"><span style="font-size:15.0pt">Sales Manager</span></span></span></div>\n\n<div style="margin-left:.19in\; text-align:center"><span style="font-size:15.0pt"><span style="font-family:arial">&bull\;</span></span><span style="color:#002060"><span style="font-family:calibri"><span style="font-size:15.0pt">Restaurant Manager</span></span></span></div>\n\n<div style="margin-left:.19in\; text-align:center"><span style="font-size:15.0pt"><span style="font-family:arial">&bull\;</span></span><span style="color:#002060"><span style="font-family:calibri"><span style="font-size:15.0pt">Groundskeeper/Engineer</span></span></span></div>\n\n<div style="margin-left:.19in\; text-align:center"><span style="font-size:15.0pt"><span style="font-family:arial">&bull\;</span></span><span style="color:#002060"><span style="font-family:calibri"><span style="font-size:15.0pt">Room Attendant </span></span></span></div>\n\n<div style="margin-left:.19in\; text-align:center"><span style="font-size:15.0pt"><span style="font-family:arial">&bull\;</span></span><span style="color:#002060"><span style="font-family:calibri"><span style="font-size:15.0pt">Housekeeping Houseman</span></span></span></div>\n\n<div style="margin-left:.19in\; text-align:center"><span style="font-size:15.0pt"><span style="font-family:arial">&bull\;</span></span><span style="color:#002060"><span style="font-family:calibri"><span style="font-size:15.0pt">Servers - Splash</span></span></span></div>\n\n<div style="margin-left:.19in\; text-align:center"><span style="font-size:15.0pt"><span style="font-family:arial">&bull\;</span></span><span style="color:#002060"><span style="font-family:calibri"><span style="font-size:15.0pt">PT Bartender - Splash</span></span></span></div>\n\n<div style="margin-left:.19in\; text-align:center"><span style="font-size:15.0pt"><span style="font-family:arial">&bull\;</span></span><span style="color:#002060"><span style="font-family:calibri"><span style="font-size:15.0pt">Food Runner-Splash</span></span></span></div>\n\n<div style="margin-left:.19in\; text-align:center"><span style="font-size:15.0pt"><span style="font-family:arial">&bull\;</span></span><span style="color:#002060"><span style="font-family:calibri"><span style="font-size:15.0pt">Banquet Servers (OC)</span></span></span></div>\n\n<div style="margin-left:.19in\; text-align:center"><span style="font-size:15.0pt"><span style="font-family:arial">&bull\;</span></span><span style="color:#002060"><span style="font-family:calibri"><span style="font-size:15.0pt">Cooks</span></span></span></div>\n
LOCATION:Hilton Dallas/Rockwall Lakefront
UID:e.1175.137310
SEQUENCE:3
DTSTAMP:20260426T034340Z
URL:https://business.rockwallchamber.org/events/details/hilton-job-fair-137310
END:VEVENT

END:VCALENDAR
