BEGIN:VCALENDAR
VERSION:2.0
PRODID:-//ChamberMaster//Event Calendar 2.0//EN
METHOD:PUBLISH
X-PUBLISHED-TTL:P3D
REFRESH-INTERVAL:P3D
CALSCALE:GREGORIAN
BEGIN:VEVENT
DTSTART;VALUE=DATE:20260423
DTEND;VALUE=DATE:20260424
TRANSP:TRANSPARENT
X-MICROSOFT-CDO-ALLDAYEVENT:TRUE
SUMMARY:Hinds Feet on High Places Book Study
DESCRIPTION:6:30-8:30 pm Thursdays- Mar.26th-Apr.30th Registration fee $5\, covers your book.\n\n\n\nHinds Feet on High Places is Hannah Hurnard's best-known and loved book: a beautiful allegory dramatizing the yearning of God's children to be led to new heights of love\, joy\, and victory.\n\n\n\nCalling all sisters: Come as you are! Open to all women seeking higher ground.\n\nLocation: Perfect Landing-1505 Airport Rd. Rockwall\n\n\n\nRegister and reserve a spot online or call Pat at 469-677-8568\n\n\n\nwww.sistersofgraceministry.com/events
X-ALT-DESC;FMTTYPE=text/html:6:30-8:30 pm Thursdays- Mar.26th-Apr.30th Registration fee $5\, covers your book.<br />\n<br />\nHinds Feet on High Places is Hannah Hurnard&#39\;s best-known and loved book: a beautiful allegory dramatizing the yearning of God&#39\;s children to be led to new heights of love\, joy\, and victory.<br />\n<br />\n<strong>Calling all sisters: Come as you are! Open to all women seeking higher ground.</strong><br />\nLocation: Perfect Landing-1505 Airport Rd. Rockwall<br />\n<br />\nRegister and reserve a spot online or call Pat at 469-677-8568<br />\n<br />\nwww.sistersofgraceministry.com/events
LOCATION:The Perfect Landing 1505 Airport Rd. Rockwall\, TX
UID:e.1175.144211
SEQUENCE:3
DTSTAMP:20260422T231046Z
URL:https://business.rockwallchamber.org/events/details/hinds-feet-on-high-places-book-study-04-23-2026-144211
END:VEVENT

END:VCALENDAR
