BEGIN:VCALENDAR
VERSION:2.0
PRODID:-//ChamberMaster//Event Calendar 2.0//EN
METHOD:PUBLISH
X-PUBLISHED-TTL:P3D
REFRESH-INTERVAL:P3D
CALSCALE:GREGORIAN
BEGIN:VEVENT
DTSTART:20141105T230000Z
DTEND:20141106T003000Z
X-MICROSOFT-CDO-ALLDAYEVENT:FALSE
SUMMARY:HobNob - Meet the Newly Elected Officials - Sponsored by ATMOS Energy
DESCRIPTION:HobNob Welcome Reception and Briefing from Newly Elected Officials\n\nHosted by the Rockwall Area Chamber of Commerce\n\nSponsored by Atmos Energy\n\n \nMeet Your Newly Elected Officials In Person!\n\nJohn Ratcliffe\, Republican\, Congressman-Elect 4th Congressional District\n\nBob Hall\, Republican candidate for Senate District 2 \n\nDavid Sweet\, Republican\, Rockwall County Judge-Elect\n\nJim Pruitt\, Rockwall Mayor-Elect \n\n \n  Federal\, State\, County and City Newly Elected Officials have been invited to present their positions on issues related to their roles that affect the Rockwall community.  This will be followed by a brief question and answer portion.\n\n \n\n\nWe would like to know what you would like to know!\n\nIn an effort to keep our Partners and community informed\, our legislative committee we will be presenting questions and comments to the newly elected officials at the reception. Click here to have your thoughts and questions submitted for consideration.\n\nThank you for your participation.\n Don't miss this annual kickoff to the 2015 Legislative Session!
X-ALT-DESC;FMTTYPE=text/html:<strong style="line-height: 20.7999992370605px\;">HobNob&nbsp\;Welcome Reception and Briefing from Newly Elected Officials</strong><br style="line-height: 20.7999992370605px\;" />\n<span style="line-height: 20.7999992370605px\;">Hosted by the&nbsp\;</span>Rockwall<span style="line-height: 20.7999992370605px\;">&nbsp\;Area Chamber of Commerce</span><br style="line-height: 20.7999992370605px\;" />\n<span style="line-height: 20.7999992370605px\;">Sponsored by&nbsp\;</span>Atmos<span style="line-height: 20.7999992370605px\;">&nbsp\;Energy</span>\n<div style="line-height: 20.7999992370605px\;">\n<div style="line-height: 20.7999992370605px\;">&nbsp\;\n<div style="line-height: 20.7999992370605px\;"><strong><u>Meet Your Newly Elected Officials In Person!</u></strong><br />\n<strong><span style="background-image:initial\;background-attachment:initial\;background-size:initial\;background-origin:initial\;background-clip:initial\;background-position:initial\;background-repeat:initial\;"><span style="font-family:arial\,sans-serif\;"><span style="font-size:10pt\;">John</span></span></span></strong>&nbsp\;<strong><span style="background-image:initial\;background-attachment:initial\;background-size:initial\;background-origin:initial\;background-clip:initial\;background-position:initial\;background-repeat:initial\;"><span style="font-family:arial\,sans-serif\;"><span style="font-size:10pt\;">Ratcliffe</span></span></span></strong><span style="background-image:initial\;background-attachment:initial\;background-size:initial\;background-origin:initial\;background-clip:initial\;background-position:initial\;background-repeat:initial\;"><span style="font-family:arial\,sans-serif\;"><span style="font-size:10pt\;">\, Republican\, Congressman-Elect&nbsp\;4th&nbsp\;Congressional District<br />\n<strong>Bob Hall</strong>\, Republican candidate for Senate District 2</span></span></span>&nbsp\;<br />\n<strong><span style="background-image:initial\;background-attachment:initial\;background-size:initial\;background-origin:initial\;background-clip:initial\;background-position:initial\;background-repeat:initial\;"><span style="font-family:arial\,sans-serif\;"><span style="font-size:10pt\;">David Sweet</span></span></span></strong><span style="background-image:initial\;background-attachment:initial\;background-size:initial\;background-origin:initial\;background-clip:initial\;background-position:initial\;background-repeat:initial\;"><span style="font-family:arial\,sans-serif\;"><span style="font-size:10pt\;">\, Republican\,&nbsp\;Rockwall</span>&nbsp\;County Judge-Elect</span></span><br />\n<strong><span style="font-size: 10pt\; line-height: 107%\; font-family: Arial\, sans-serif\; background-image: initial\; background-attachment: initial\; background-size: initial\; background-origin: initial\; background-clip: initial\; background-position: initial\; background-repeat: initial\;">Jim Pruitt\,&nbsp\;</span></strong><span style="font-size: 10pt\; line-height: 107%\; font-family: Arial\, sans-serif\; background-image: initial\; background-attachment: initial\; background-size: initial\; background-origin: initial\; background-clip: initial\; background-position: initial\; background-repeat: initial\;">Rockwall</span><span class="apple-converted-space">&nbsp\;</span>Mayor-Elect&#8203\;<br />\n&nbsp\;</div>\n<span style="line-height: 20.7999992370605px\;">&#8203\;</span><span style="line-height: 1.6\;">&#8203\;Federal\, State\, County and City Newly Elected Officials have been invited to present their positions on issues related to their roles that affect the&nbsp\;</span>Rockwall<span style="line-height: 1.6\;">&nbsp\;community. &nbsp\;This will be followed by a brief question and answer portion.</span><br />\n&nbsp\;</div>\n</div>\n\n<h2 style="margin: 0px 0px 18px\; padding: 0px\; color: rgb(115\, 160\, 207)\; font-family: Oswald\; font-size: 1.4em\; line-height: 17.9199981689453px\;">We would like to know what you would like to know!</h2>\n\n<h3 style="margin: 0px 0px 8px\; padding: 0px\; font-size: 1.2em\; font-family: ABeeZee\, Helvetica\, Arial\, sans-serif\; line-height: 17.9199981689453px\;"><span style="font-family:arial\,sans-serif\;"><span style="font-size:10pt\;">In an effort to keep our Partners and community informed\,&nbsp\;our&nbsp\;legislative committee we will be presenting questions and comments to the newly elected officials at the reception.&nbsp\;<u><a href="http://rockwallchamber.org/hobnob-meet-the-newly-elected-officials/" target="_blank">Click here</a></u>&nbsp\;to have your thoughts and questions submitted for consideration.<br />\nThank you for your participation.</span></span></h3>\n<span style="font-size:12px\;"> <strong style="line-height: 20.7999992370605px\;">Don&#39\;t miss this annual kickoff to the 2015 Legislative Session!</strong></span>
LOCATION:Hilton Dallas Rockwall Lakefront 2055 Summer Lee Dr. Rockwall\, TX 75032
UID:e.1175.129044
SEQUENCE:3
DTSTAMP:20260422T132949Z
URL:https://business.rockwallchamber.org/events/details/hobnob-meet-the-newly-elected-officials-sponsored-by-atmos-energy-11-05-2014-129044
END:VEVENT

END:VCALENDAR
