BEGIN:VCALENDAR
VERSION:2.0
PRODID:-//ChamberMaster//Event Calendar 2.0//EN
METHOD:PUBLISH
X-PUBLISHED-TTL:P3D
REFRESH-INTERVAL:P3D
CALSCALE:GREGORIAN
BEGIN:VEVENT
DTSTART:20260425T000000Z
DTEND:20260425T040000Z
X-MICROSOFT-CDO-ALLDAYEVENT:FALSE
SUMMARY:Karaoke Night @ Beer Me!
DESCRIPTION:You know it. You love it. And you definitely want more of it.\n\nKaraoke Night is BACK at Beer Me! so grab the mic\, bring your crew\, and get ready for a night of unforgettable performances (and a few gloriously questionable ones. Whether you're belting out ballads or just here for the show\, this is your moment.\n\nDJ Willie Boom returns with his immaculate vibes\, sharp style\, and that signature Fate energy that keeps the party going all night long.\n\nCold beers flowing\n\nWine ready to pour\n\nMic ready for YOU\n\nCome sing your heart out or cheer on your friends as they take center stage. Either way\, it's going to be a night you don't want to miss.
X-ALT-DESC;FMTTYPE=text/html:You know it. You love it. And you definitely want more of it.<br />\nKaraoke Night is BACK at Beer Me!&mdash\;so grab the mic\, bring your crew\, and get ready for a night of unforgettable performances (and a few gloriously questionable ones. Whether you&rsquo\;re belting out ballads or just here for the show\, this is your moment.<br />\nDJ Willie Boom returns with his immaculate vibes\, sharp style\, and that signature Fate energy that keeps the party going all night long.<br />\nCold beers flowing<br />\nWine ready to pour<br />\nMic ready for YOU<br />\nCome sing your heart out&mdash\;or cheer on your friends as they take center stage. Either way\, it&rsquo\;s going to be a night you don&rsquo\;t want to miss.
LOCATION:
UID:e.1175.144246
SEQUENCE:3
DTSTAMP:20260421T024944Z
URL:https://business.rockwallchamber.org/events/details/karaoke-night-beer-me-144246
END:VEVENT

END:VCALENDAR
