BEGIN:VCALENDAR
VERSION:2.0
PRODID:-//ChamberMaster//Event Calendar 2.0//EN
METHOD:PUBLISH
X-PUBLISHED-TTL:P3D
REFRESH-INTERVAL:P3D
CALSCALE:GREGORIAN
BEGIN:VEVENT
DTSTART:20230926T220000Z
DTEND:20230927T000000Z
X-MICROSOFT-CDO-ALLDAYEVENT:FALSE
SUMMARY:"Let's Flamingle & Network!" PWA Mixer
DESCRIPTION:Join us as we "flock together" on September 26 at Rosini Vineyards for our end of summer mixer! Come ready to mingle\, make connections\, and grow your business relationships! We will be providing complimentary light bites\, refreshments\, and will be giving away door prizes! To register\, visit our website or contact Kelsey@rockwallchamber.org
X-ALT-DESC;FMTTYPE=text/html:<span class="WdYUQQ text-decoration-none text-strikethrough-none" style="color: rgb(0\, 0\, 0)\; font-weight: 700\;">Join us as we &quot\;flock together&quot\; on September 26 at Rosini Vineyards for our end of summer mixer!</span><span class="WdYUQQ text-decoration-none text-strikethrough-none white-space-prewrap" style="color: rgb(0\, 0\, 0)\; font-weight: 700\;"> </span><span class="WdYUQQ text-decoration-none text-strikethrough-none" style="color: rgb(0\, 0\, 0)\; font-weight: 700\;">Come ready to mingle\, make connections\, and grow your business relationships! We will be providing complimentary light bites\, refreshments\, and will be giving away door prizes! To register\, visit our website or contact Kelsey@rockwallchamber.org</span><br />\n<br />\n&nbsp\;
LOCATION:Rosini Vineyards
UID:e.1175.142121
SEQUENCE:3
DTSTAMP:20260421T014041Z
URL:https://business.rockwallchamber.org/events/details/let-s-flamingle-network-pwa-mixer-142121
END:VEVENT

END:VCALENDAR
