BEGIN:VCALENDAR
VERSION:2.0
PRODID:-//ChamberMaster//Event Calendar 2.0//EN
METHOD:PUBLISH
X-PUBLISHED-TTL:P3D
REFRESH-INTERVAL:P3D
CALSCALE:GREGORIAN
BEGIN:VEVENT
DTSTART:20260425T233000Z
DTEND:20260426T010000Z
X-MICROSOFT-CDO-ALLDAYEVENT:FALSE
SUMMARY:Meals on Wheels Fundraiser Spaghetti Dinner
DESCRIPTION:Charity Dinner & Cocktail Hour\n\n \n\nBenefiting: Meals on Wheels\n\nHosted by: Brookdale Summer Ridge\n\n \n\n?? Saturday\, April 25\n\n?? Cocktail Hour: 6:30 PM\n\n?? Dinner Served: 7:00 PM\n\n \n\n \n\n?? What to Expect\n\n \n\n	Spaghetti dinner sponsored by Luigi's Italian Caf \n\n \n\n\n	Delicious desserts sponsored by Walmart Pharmacy\n\n \n\n\n	Open bar\n\n \n\n\n	Exciting raffle prizes\n\n \n\n\n	An elegant evening in cocktail attire\n\n \n\n \n\n?? Why It Matters\n\n \n\nAll proceeds will directly benefit Meals on Wheels\, helping provide critical meals and support to families and seniors in our community.\n\n \n\n \n\n?? Spaces are limited!\n\nPlease RSVP and purchase your tickets as soon as possible. This is an exclusive event with limited spaces. Scan the QR code to secure your tickets\n\n \n\nFeel free to share this invitation with friends\, family\, and coworkers   the more we come together\, the greater the impact we can make.\n\n \n\nWe look forward to seeing you there and giving back to an incredible organization!
X-ALT-DESC;FMTTYPE=text/html:&nbsp\;<strong><span style="font-size:16.0pt">Charity Dinner &amp\; Cocktail Hour</span></strong><br />\n&nbsp\;<br />\n<strong><span style="font-size:12.0pt">Benefiting: Meals on Wheels</span></strong><br />\n<strong><span style="font-size:12.0pt">Hosted by: Brookdale Summer Ridge</span></strong><br />\n&nbsp\;<br />\n<span style="font-family:segoe ui emoji\,sans-serif">??</span> <strong>Saturday\, April 25</strong><br />\n<span style="font-family:segoe ui emoji\,sans-serif">??</span> <strong>Cocktail Hour</strong>: 6:30 PM<br />\n<span style="font-family:segoe ui emoji\,sans-serif">??</span> <strong>Dinner Served:</strong> 7:00 PM<br />\n&nbsp\;<br />\n&nbsp\;<br />\n<span style="font-family:segoe ui emoji\,sans-serif">??</span> <strong><span style="font-size:12.0pt">What to Expect</span></strong><br />\n&nbsp\;\n<ul>\n	<li>Spaghetti dinner sponsored by <strong><u>Luigi&rsquo\;s Italian Caf&eacute\;</u></strong></li>\n</ul>\n&nbsp\;\n\n<ul>\n	<li>Delicious desserts sponsored by <strong><u>Walmart Pharmacy</u></strong></li>\n</ul>\n&nbsp\;\n\n<ul>\n	<li>Open bar</li>\n</ul>\n&nbsp\;\n\n<ul>\n	<li>Exciting raffle prizes</li>\n</ul>\n&nbsp\;\n\n<ul>\n	<li>An elegant evening in cocktail attire</li>\n</ul>\n&nbsp\;<br />\n&nbsp\;<br />\n<span style="font-family:segoe ui emoji\,sans-serif">?</span><span style="font-family:segoe ui emoji\,sans-serif">?</span> <strong><span style="font-size:12.0pt">Why It Matters</span></strong><br />\n&nbsp\;<br />\nAll proceeds will directly benefit Meals on Wheels\, helping provide critical meals and support to families and seniors in our community.<br />\n&nbsp\;<br />\n&nbsp\;<br />\n<span style="font-family:segoe ui emoji\,sans-serif">??</span> <strong><span style="font-size:12.0pt">Spaces are limited!</span></strong><br />\nPlease RSVP and purchase your tickets as soon as possible. This is an <strong><em><u>exclusive event</u></em></strong> with limited spaces. <strong><span style="font-size:14.0pt">Scan the QR code to secure your tickets</span></strong><br />\n&nbsp\;<br />\nFeel free to share this invitation with friends\, family\, and coworkers &mdash\; the more we come together\, the greater the impact we can make.<br />\n&nbsp\;<br />\nWe look forward to seeing you there and giving back to an incredible organization!<br />\n&nbsp\;
LOCATION:Brookdale Summer Ridge 3020 Ridge Road Rockwall\, TX 75032
UID:e.1175.144252
SEQUENCE:3
DTSTAMP:20260423T081350Z
URL:https://business.rockwallchamber.org/events/details/meals-on-wheels-fundraiser-spaghetti-dinner-144252
END:VEVENT

END:VCALENDAR
