BEGIN:VCALENDAR
VERSION:2.0
PRODID:-//ChamberMaster//Event Calendar 2.0//EN
METHOD:PUBLISH
X-PUBLISHED-TTL:P3D
REFRESH-INTERVAL:P3D
CALSCALE:GREGORIAN
BEGIN:VEVENT
DTSTART:20230702T003000Z
DTEND:20230702T033000Z
X-MICROSOFT-CDO-ALLDAYEVENT:FALSE
SUMMARY:Military Appreciation Night Networking Event - All ACTIVE DUTY AND VETERANS RECEIVE FREE ADMISSION!
DESCRIPTION:MESQUITE CHAMPIONSHIP RODEO IS BACK!\n\n\n\nJoin us for the Rockwall Chamber of Commerce Networking Night on Saturday July 1'st for Military Appreciation Night presented by Navy Federal Credit Union!\n\n\n\nALL VETERANS AND ACTIVE DUTY MILITARY RECEIVE FREE ADMISSION!\n\n\n\nTickets can be purchased by calling the Mesquite Championship Rodeo event Account Executive Caleb Thomas at (469-651-7567- cell) or (469)-646-0936 - office phone to receive special Rockwall Chamber of Commerce rates and group pricing.\n\n\n\nWe can't wait to meet you!
X-ALT-DESC;FMTTYPE=text/html:<strong>MESQUITE CHAMPIONSHIP RODEO IS BACK!<br />\n<br />\nJoin us for the Rockwall Chamber of Commerce Networking Night on Saturday July 1&#39\;st for Military Appreciation Night presented by Navy Federal Credit Union!<br />\n<br />\nALL VETERANS AND ACTIVE DUTY MILITARY RECEIVE FREE ADMISSION!<br />\n<br />\nTickets can be purchased by calling the Mesquite Championship Rodeo event Account Executive Caleb Thomas at (469-651-7567- cell) or (469)-646-0936 - office phone to receive special Rockwall Chamber of Commerce rates and group pricing.<br />\n<br />\nWe can&#39\;t wait to meet you! </strong><br />\n<br />\n<br />\n&nbsp\;
LOCATION:1818 Rodeo Drive Mesquite\, TX 75149 Mesquite Arena
UID:e.1175.142129
SEQUENCE:3
DTSTAMP:20260421T045833Z
URL:https://business.rockwallchamber.org/events/details/military-appreciation-night-networking-event-all-active-duty-and-veterans-receive-free-admission-142129
END:VEVENT

END:VCALENDAR
