BEGIN:VCALENDAR
VERSION:2.0
PRODID:-//ChamberMaster//Event Calendar 2.0//EN
METHOD:PUBLISH
X-PUBLISHED-TTL:P3D
REFRESH-INTERVAL:P3D
CALSCALE:GREGORIAN
BEGIN:VEVENT
DTSTART:20231115T173000Z
DTEND:20231115T190000Z
X-MICROSOFT-CDO-ALLDAYEVENT:FALSE
SUMMARY:November Partnership Luncheon - State of The City of Rockwall
DESCRIPTION:Between our picturesque lake\, our distinguished school district\, and the plethora of incredible businesses\, everyone knows that Rockwall is a special place to be! Rockwall offers something for everyone and we have our innovative city leadership to thank for that! These hardworking visionaries think outside the box to make Rockwall an attractive place to live\, work\, and visit.\n\n\n\nJoin us on Wednesday\, November 15th @ 11:30am\, as we discuss Rockwall business with our special guests Mayor Trace Johannesen and City Manager Mary Smith. We're expecting a sell-out crowd\, and you won't want to miss hearing first-hand what's in store for Rockwall!
X-ALT-DESC;FMTTYPE=text/html:<p style="box-sizing: border-box\; margin-top: 0px\; margin-bottom: 0.9rem\;"><span style="font-size:14px\;"><span style="font-family:arial\;"><span style="color: rgb(0\, 0\, 0)\;">Between our picturesque lake\, our distinguished</span><span style="color: rgb(0\, 0\, 0)\;">&nbsp\;school district</span><span style="color: rgb(0\, 0\, 0)\;">\, and the plethora of incredible businesses</span><span style="color: rgb(0\, 0\, 0)\;">\, e</span><font color="#000000">veryone knows that Rockwall is a special place to be!&nbsp\;Rockwall offers something for everyone and we have our innovative city&nbsp\;leadership to thank for that! These hardworking visionaries&nbsp\;think outside the box to make Rockwall&nbsp\;an attractive place to live\, work\, and visit.</font><br />\n<br />\n<font color="#000000">Join us on Wednesday\, November 15th @ 11:30am\,&nbsp\;as we discuss Rockwall business&nbsp\;with our special guests Mayor Trace Johannesen and City Manager Mary Smith. We&#39\;re&nbsp\;expecting a sell-out crowd\, and you won&#39\;t want to miss hearing first-hand what&#39\;s in store for&nbsp\;Rockwall!</font></span></span></p>\n
LOCATION:Lakepointe Church
UID:e.1175.142409
SEQUENCE:3
DTSTAMP:20260420T223842Z
URL:https://business.rockwallchamber.org/events/details/november-partnership-luncheon-state-of-the-city-of-rockwall-142409
END:VEVENT

END:VCALENDAR
