BEGIN:VCALENDAR
VERSION:2.0
PRODID:-//ChamberMaster//Event Calendar 2.0//EN
METHOD:PUBLISH
X-PUBLISHED-TTL:P3D
REFRESH-INTERVAL:P3D
CALSCALE:GREGORIAN
BEGIN:VEVENT
DTSTART;VALUE=DATE:20230617
DTEND;VALUE=DATE:20230618
TRANSP:TRANSPARENT
X-MICROSOFT-CDO-ALLDAYEVENT:TRUE
SUMMARY:Pet Adoption Day at the Hilton Lake Front supporting Rockwall Animal Adoption Center
DESCRIPTION:Pet Adoption Day! Supporting the Rockwall Pet Adoption Center!\n\n\n\nJune 17tth 11am-2pm at the Hilton Lake front \n\n2055 Summer Lee Dr. Rockwall\, TX 75032 (in the Pergola room)
X-ALT-DESC;FMTTYPE=text/html:Pet Adoption Day! Supporting the Rockwall Pet Adoption Center!<br />\n<br />\nJune 17tth 11am-2pm at the Hilton Lake front&nbsp\;<br />\n2055 Summer Lee Dr. Rockwall\, TX 75032 (in the Pergola room)<br />\n&nbsp\;
LOCATION:Hilton Lake Front 2055 Summer Lee Dr. Rockwall\, Texas 75032 (Pergola Room)
UID:e.1175.142130
SEQUENCE:3
DTSTAMP:20260421T063618Z
URL:https://business.rockwallchamber.org/events/details/pet-adoption-day-at-the-hilton-lake-front-supporting-rockwall-animal-adoption-center-142130
END:VEVENT

END:VCALENDAR
