BEGIN:VCALENDAR
VERSION:2.0
PRODID:-//ChamberMaster//Event Calendar 2.0//EN
METHOD:PUBLISH
X-PUBLISHED-TTL:P3D
REFRESH-INTERVAL:P3D
CALSCALE:GREGORIAN
BEGIN:VEVENT
DTSTART:20180626T230000Z
DTEND:20180627T010000Z
X-MICROSOFT-CDO-ALLDAYEVENT:FALSE
SUMMARY:PUBLIC MEETING SET ON PROPOSED FM 549 WIDENING
DESCRIPTION:ROCKWALL   The Texas Department of Transportation (TxDOT) will hold a public meeting next week on proposed improvements to FM 549 from SH 205 to SH 276 in Rockwall County. \n\nThe public meeting will be held from 6-8 p.m.\, Tuesday\, June 26\, at Rockwall County Courthouse\, 1111 East Yellow Jacket Lane\, Rockwall\, TX 75087.\n\n \n\nThe meeting will have an open house format\, with no formal presentation. Representatives from TxDOT and project consultants will be available to answer questions about the proposed improvements. \n\n \n\nThe proposed project would widen 2.08 miles of FM 549 to a four-lane divided roadway. In addition to widening\, the project will create a new segment of FM 549 extending from south of FM 1139 to SH 205.  Maps showing the proposed project's location and geometric design will be available for viewing at the public meeting.
X-ALT-DESC;FMTTYPE=text/html:<p class="xxmsonormal" style="margin-bottom:10.0pt\;line-height:115%\;text-autospace:\nnone"><b><span style="font-family:&quot\;Arial&quot\;\,sans-serif\;color:black">ROCKWALL </span></b><span style="font-family:&quot\;Arial&quot\;\,sans-serif\;color:black">&ndash\; The Texas Department of Transportation (TxDOT) will hold a public meeting next week on&nbsp\;proposed </span><span style="font-family:&quot\;Arial&quot\;\,sans-serif">improvements to FM 549</span> <span style="font-family:&quot\;Arial&quot\;\,sans-serif">from SH 205 to SH 276 in Rockwall County. </span><o:p></o:p></p>\n\n<p><span style="font-family:&quot\;Arial&quot\;\,sans-serif">The public meeting will be held&nbsp\;from 6-8 p.m.\, Tuesday\, June 26\, at Rockwall County Courthouse\, 1111 East Yellow Jacket Lane\, Rockwall\, TX 75087.<o:p></o:p></span></p>\n\n<p><span style="font-size:8.5pt\;font-family:&quot\;Helvetica&quot\;\,sans-serif">&nbsp\;</span><o:p></o:p></p>\n\n<p><span style="font-family:&quot\;Arial&quot\;\,sans-serif">The meeting will have an open house format\, with no formal presentation. Representatives from TxDOT and project consultants will be available to answer questions about the proposed improvements.<span class="xxxapple-converted-space">&nbsp\;</span></span><o:p></o:p></p>\n\n<p class="xxmsonormal" style="text-autospace:none\;min-height:13px"><span style="font-family:&quot\;Arial&quot\;\,sans-serif\;color:black">&nbsp\;</span><o:p></o:p></p>\n\n<p class="xxmsonormal" style="text-autospace:none"><span style="font-family:&quot\;Arial&quot\;\,sans-serif">The proposed project would widen 2.08 miles of FM 549 to a four-lane divided roadway. In addition to widening\, the project will create a new segment of FM 549 extending from south of FM 1139 to SH 205.&nbsp\; Maps showing the <span style="color:black">proposed project&rsquo\;s location and geometric design will be available for viewing at the public meeting.&nbsp\;</span></span><o:p></o:p></p>\n
LOCATION:Rockwall County Courthouse\, 1111 East Yellow Jacket Lane\, Rockwall\, TX 75087.
UID:e.1175.138371
SEQUENCE:3
DTSTAMP:20260426T032658Z
URL:https://business.rockwallchamber.org/events/details/public-meeting-set-on-proposed-fm-549-widening-138371
END:VEVENT

END:VCALENDAR
