BEGIN:VCALENDAR
VERSION:2.0
PRODID:-//ChamberMaster//Event Calendar 2.0//EN
METHOD:PUBLISH
X-PUBLISHED-TTL:P3D
REFRESH-INTERVAL:P3D
CALSCALE:GREGORIAN
BEGIN:VEVENT
DTSTART:20181018T230000Z
DTEND:20181019T010000Z
X-MICROSOFT-CDO-ALLDAYEVENT:FALSE
SUMMARY:PWA Fall After Hours Mixer
DESCRIPTION:
X-ALT-DESC;FMTTYPE=text/html:
LOCATION:Please contact Megan Killingsworth at Megan@rockwallchamber.org or 972.771.5733 to get registered and find out additional details!
UID:e.1175.138410
SEQUENCE:3
DTSTAMP:20260425T104724Z
URL:https://business.rockwallchamber.org/events/details/pwa-fall-after-hours-mixer-138410
END:VEVENT

END:VCALENDAR
