BEGIN:VCALENDAR
VERSION:2.0
PRODID:-//ChamberMaster//Event Calendar 2.0//EN
METHOD:PUBLISH
X-PUBLISHED-TTL:P3D
REFRESH-INTERVAL:P3D
CALSCALE:GREGORIAN
BEGIN:VEVENT
DTSTART:20250417T233000Z
DTEND:20250418T004500Z
X-MICROSOFT-CDO-ALLDAYEVENT:FALSE
SUMMARY:Reference Financial Estate Planning Seminar
DESCRIPTION:Come to a FREE Seminar and learn about Wills and Trusts\, which is better and how to AVOID PROBATE. Other topics include properly designating beneficiaries\, retirement income\, safe growth strategies and how to create a legacy for your family. PLEASE REGISTER to make sure there is material for you. To reserve your seats\,\n\ncall: (855) 896-6370 orgo to: www.youRSVP.com and enter code: YATBUH Limited seating !!!
X-ALT-DESC;FMTTYPE=text/html:Come to a FREE Seminar and learn about Wills and Trusts\, which is better and how to AVOID PROBATE. Other topics include properly designating beneficiaries\, retirement income\, safe growth strategies and how to create a legacy for your family.&nbsp\;<strong>PLEASE REGISTER</strong>&nbsp\;to make sure there is material for you.&nbsp\;T<strong>o reserve your seats\,</strong><br />\n<strong>call: (855) 896-6370 orgo to: www.youRSVP.com and enter code: YATBUH Limited seating !!!</strong>
LOCATION:Cavender's Nissan Large meeting room\, 1700 I-30 and John King. The meeting room is in the building closest to John King
UID:e.1175.143170
SEQUENCE:3
DTSTAMP:20260421T144539Z
URL:https://business.rockwallchamber.org/events/details/reference-financial-estate-planning-seminar-04-17-2025-143170
END:VEVENT

END:VCALENDAR
