BEGIN:VCALENDAR
VERSION:2.0
PRODID:-//ChamberMaster//Event Calendar 2.0//EN
METHOD:PUBLISH
X-PUBLISHED-TTL:P3D
REFRESH-INTERVAL:P3D
CALSCALE:GREGORIAN
BEGIN:VEVENT
DTSTART:20180528T150000Z
DTEND:20180528T180000Z
X-MICROSOFT-CDO-ALLDAYEVENT:FALSE
SUMMARY:Rest Haven Funeral Home & Memorial Park Memorial Day 2018
DESCRIPTION:Honoring the 100th Anniversary of WWI\n\nKids activities\, face painting\, balloon animals\, Kona Ice and Food for purchase\n\nMatthew Middleton and Texas Drive to perform after ceremony
X-ALT-DESC;FMTTYPE=text/html:<span style="color:black\;"><span style="font-family:garamond\,serif\;"><span style="font-size:18.0pt\;">Honoring the 100th Anniversary of WWI</span></span></span><br />\n<span style="color:black\;"><span style="font-family:garamond\,serif\;"><span style="font-size:18.0pt\;"><span id="yui_3_16_0_ym19_1_1526039469399_4414">Kids activities\, face painting\, balloon animals\, Kona Ice and Food for purchase</span></span></span></span><br />\n<span style="color:black\;"><span style="font-family:garamond\,serif\;"><span style="font-size:18.0pt\;"><span id="yui_3_16_0_ym19_1_1526039469399_4439">Matthew Middleton and Texas Drive to perform after ceremony</span></span></span></span><br />\n&nbsp\;
LOCATION:Rest Haven Memorial Park 2500 State Hwy 66 East Rockwall\, TX 75087
UID:e.1175.134940
SEQUENCE:3
DTSTAMP:20260426T032556Z
URL:https://business.rockwallchamber.org/events/details/rest-haven-funeral-home-memorial-park-memorial-day-2018-134940
END:VEVENT

END:VCALENDAR
