BEGIN:VCALENDAR
VERSION:2.0
PRODID:-//ChamberMaster//Event Calendar 2.0//EN
METHOD:PUBLISH
X-PUBLISHED-TTL:P3D
REFRESH-INTERVAL:P3D
CALSCALE:GREGORIAN
BEGIN:VEVENT
DTSTART:20180407T161500Z
DTEND:20180407T164500Z
X-MICROSOFT-CDO-ALLDAYEVENT:FALSE
SUMMARY:Ribbon Cutting - Club Pilates - Dalton Corners
DESCRIPTION:Ribbon Cutting - Grand Opening
X-ALT-DESC;FMTTYPE=text/html:Ribbon Cutting - Grand Opening
LOCATION:3301 N. Goliad Ste 103 Rockwall\, TX 75087
UID:e.1175.136103
SEQUENCE:3
DTSTAMP:20260425T215533Z
URL:https://business.rockwallchamber.org/events/details/ribbon-cutting-club-pilates-dalton-corners-136103
END:VEVENT

END:VCALENDAR
