BEGIN:VCALENDAR
VERSION:2.0
PRODID:-//ChamberMaster//Event Calendar 2.0//EN
METHOD:PUBLISH
X-PUBLISHED-TTL:P3D
REFRESH-INTERVAL:P3D
CALSCALE:GREGORIAN
BEGIN:VEVENT
DTSTART:20180515T182000Z
DTEND:20180515T192000Z
X-MICROSOFT-CDO-ALLDAYEVENT:FALSE
SUMMARY:Ribbon Cutting - Ideal Dental
DESCRIPTION:Ribbon Cutting - Ideal Dental\n\n1:20 PM - 2:20 PM\n\n2268 North Lakeshore Dr. #104\n\nRockwall\, TX 7587
X-ALT-DESC;FMTTYPE=text/html:Ribbon Cutting - Ideal Dental<br />\n1:20 PM - 2:20 PM<br />\n2268 North Lakeshore Dr. #104<br />\nRockwall\, TX 7587&nbsp\;
LOCATION:
UID:e.1175.137323
SEQUENCE:3
DTSTAMP:20260425T204133Z
URL:https://business.rockwallchamber.org/events/details/ribbon-cutting-ideal-dental-137323
END:VEVENT

END:VCALENDAR
