BEGIN:VCALENDAR
VERSION:2.0
PRODID:-//ChamberMaster//Event Calendar 2.0//EN
METHOD:PUBLISH
X-PUBLISHED-TTL:P3D
REFRESH-INTERVAL:P3D
CALSCALE:GREGORIAN
BEGIN:VEVENT
DTSTART:20180118T192000Z
DTEND:20180118T200000Z
X-MICROSOFT-CDO-ALLDAYEVENT:FALSE
SUMMARY:Ribbon Cutting - Rockwall OpenSpace
DESCRIPTION:Join us for a Ribbon Cutting at Rockwall OpenSpace
X-ALT-DESC;FMTTYPE=text/html:Join us for a Ribbon Cutting at Rockwall OpenSpace
LOCATION:506 North Goliad Street ABOVE STERLING TEA SPOT
UID:e.1175.134858
SEQUENCE:3
DTSTAMP:20260425T152259Z
URL:https://business.rockwallchamber.org/events/details/ribbon-cutting-rockwall-openspace-134858
END:VEVENT

END:VCALENDAR
