BEGIN:VCALENDAR
VERSION:2.0
PRODID:-//ChamberMaster//Event Calendar 2.0//EN
METHOD:PUBLISH
X-PUBLISHED-TTL:P3D
REFRESH-INTERVAL:P3D
CALSCALE:GREGORIAN
BEGIN:VEVENT
DTSTART:20230923T020000Z
DTEND:20231001T000000Z
X-MICROSOFT-CDO-ALLDAYEVENT:FALSE
SUMMARY:Rockwall Art League 23rd Annual Fine Art Show & Sale
DESCRIPTION:This is the RAL signature event of the year.  We are excited to announce that we will be located in a new venue that provides more space and light to showcase artwork. The show will continue to celebrate contemporary art and allows art collectors to have choices in a variety of mediums and styles.\n\nExhibition is open to the public during the following times:\n\n Friday\, September 22 -1:00 pm to 7:00 pm\n\nSaturday\, September 23 - 10:00 am to 7:00 pm\n\nSaturday\, September 23 - 5:00 pm to 7:00 pm Artists Reception & Awards\n\nSunday\, September 24 - 12:00 pm to 4:00 pm\n\nSunday\, September 24 - 2:00 pm to 3:00 pm  Smooth Jazz Live Performance by Audio Groove\n\nMonday - Friday\, September 25 to 29 -1:00 pm to 7:00 pm\n\nSaturday\, September 30 - 10:00 am to 4:00 pm
X-ALT-DESC;FMTTYPE=text/html:<h2><strong><span style="font-family:arial\,ms p????\,ms pgothic\,??\,dotum\,helvetica\,sans-serif">This is the RAL signature event of the year.&nbsp\; We are excited to announce that we will be located in a new venue that provides more space and light to showcase artwork. The show will continue to celebrate contemporary art and allows art collectors to have choices in a variety of mediums and styles.</span></strong></h2>\n\n<p><span style="font-size:16px"><strong>Exhibition is open to the public during the following times:</strong></span></p>\n\n<p><strong><span style="font-size:12px"><em>&nbsp\;</em>Friday\, September 22 -1:00 pm to 7:00 pm</span></strong></p>\n\n<p><strong><span style="font-size:12px">Saturday\, September 23 - 10:00 am to 7:00 pm<br />\nSaturday\, September 23 - 5:00 pm to 7:00 pm Artists Reception &amp\; Awards</span></strong></p>\n\n<p><strong><span style="font-size:12px">Sunday\, September 24 - 12:00 pm to 4:00 pm<br />\nSunday\, September 24 - 2:00 pm to 3:00 pm&nbsp\; Smooth Jazz Live Performance by Audio Groove</span></strong></p>\n\n<p><strong><span style="font-size:12px">Monday - Friday\, September 25 to 29 -1:00 pm to 7:00 pm</span></strong></p>\n\n<p><strong><span style="font-size:12px">Saturday\, September 30 - 10:00 am to 4:00 pm</span></strong></p>\n
LOCATION:Cavender Nissan 1700 I-30 Frontage Road Rockwall\, TX 75087
UID:e.1175.142180
SEQUENCE:3
DTSTAMP:20260421T014254Z
URL:https://business.rockwallchamber.org/events/details/rockwall-art-league-23rd-annual-fine-art-show-sale-142180
END:VEVENT

END:VCALENDAR
