BEGIN:VCALENDAR
VERSION:2.0
PRODID:-//ChamberMaster//Event Calendar 2.0//EN
METHOD:PUBLISH
X-PUBLISHED-TTL:P3D
REFRESH-INTERVAL:P3D
CALSCALE:GREGORIAN
BEGIN:VEVENT
DTSTART:20240201T230000Z
DTEND:20240202T000000Z
X-MICROSOFT-CDO-ALLDAYEVENT:FALSE
SUMMARY:RVBA Meet Up: Eldorado Fine Cigars
DESCRIPTION:
X-ALT-DESC;FMTTYPE=text/html:
LOCATION:Eldorado Fine Cigars 803 N Goliad St\, Rockwall\, TX 75087
UID:e.1175.142574
SEQUENCE:3
DTSTAMP:20260420T173656Z
URL:https://business.rockwallchamber.org/events/details/rvba-meet-up-eldorado-fine-cigars-142574
END:VEVENT

END:VCALENDAR
