BEGIN:VCALENDAR
VERSION:2.0
PRODID:-//ChamberMaster//Event Calendar 2.0//EN
METHOD:PUBLISH
X-PUBLISHED-TTL:P3D
REFRESH-INTERVAL:P3D
CALSCALE:GREGORIAN
BEGIN:VEVENT
DTSTART:20231005T150000Z
DTEND:20231005T160000Z
X-MICROSOFT-CDO-ALLDAYEVENT:FALSE
SUMMARY:SSA Monthly Meeting
DESCRIPTION:Please mark your calendar for October 5th as we invite you to join us for our final SSA meeting of the year. During this session\, we will reflect on our achievements in 2023 and delve into the specifics of our upcoming November and December holiday giving events. We hope to see you there!
X-ALT-DESC;FMTTYPE=text/html:<span class="OYPEnA text-decoration-none text-strikethrough-none" style="color: rgb(16\, 16\, 16)\;">Please mark your calendar for October 5th as we invite you to join us for our final SSA meeting of the year. During this session\, we will reflect on our achievements in 2023 and delve into the specifics of our upcoming November and December holiday giving events. We hope to see you there!</span><br />\n<br />\n&nbsp\;
LOCATION:Rockwall Area Chamber of Commerce - Innovation Room
UID:e.1175.142407
SEQUENCE:3
DTSTAMP:20260421T013814Z
URL:https://business.rockwallchamber.org/events/details/ssa-monthly-meeting-142407
END:VEVENT

END:VCALENDAR
