BEGIN:VCALENDAR
VERSION:2.0
PRODID:-//ChamberMaster//Event Calendar 2.0//EN
METHOD:PUBLISH
X-PUBLISHED-TTL:P3D
REFRESH-INTERVAL:P3D
CALSCALE:GREGORIAN
BEGIN:VEVENT
DTSTART:20230810T150000Z
DTEND:20230810T160000Z
X-MICROSOFT-CDO-ALLDAYEVENT:FALSE
SUMMARY:SSA Monthly Meeting - August
DESCRIPTION:Join us on August 10th for our monthly SSA meeting!! Register today!
X-ALT-DESC;FMTTYPE=text/html:Join us on August 10th for our monthly SSA meeting!! Register today!&nbsp\;<br />\n<br />\n&nbsp\;
LOCATION:Rockwall Area Chamber of Commerce
UID:e.1175.142165
SEQUENCE:3
DTSTAMP:20260421T032021Z
URL:https://business.rockwallchamber.org/events/details/ssa-monthly-meeting-august-142165
END:VEVENT

END:VCALENDAR
