BEGIN:VCALENDAR
VERSION:2.0
PRODID:-//ChamberMaster//Event Calendar 2.0//EN
METHOD:PUBLISH
X-PUBLISHED-TTL:P3D
REFRESH-INTERVAL:P3D
CALSCALE:GREGORIAN
BEGIN:VEVENT
DTSTART:20240125T220000Z
DTEND:20240125T230000Z
X-MICROSOFT-CDO-ALLDAYEVENT:FALSE
SUMMARY:SSA New Year Mixer
DESCRIPTION:Join us on Thursday\, January 25 for complimentary light bites and an afternoon of networking! Current SSA members\, and potential members are welcome! \n\n\n\nWondering what you can bring? \nPlease consider bringing along three Valentine's cards to share with our beloved senior community this coming February! We invite you to gather your children\, friends\, and family for a heartwarming session of crafting homemade Valentine's cards. Your thoughtful contribution will mean the world to our cherished seniors!
X-ALT-DESC;FMTTYPE=text/html:<font color="#1e376d" face="YAFcfxF61Ps 0\, _fb_\, auto"><b>Join us on Thursday\, January 25 for complimentary light bites and an afternoon of networking! Current SSA members\, and potential members are welcome!&nbsp\;<br />\n<br />\nWondering what you can bring?&nbsp\;</b></font>\n<div><span style="color: rgb(55\, 65\, 81)\; font-family: Söhne\, ui-sans-serif\, system-ui\, -apple-system\, &quot\;Segoe UI&quot\;\, Roboto\, Ubuntu\, Cantarell\, &quot\;Noto Sans&quot\;\, sans-serif\, &quot\;Helvetica Neue&quot\;\, Arial\, &quot\;Apple Color Emoji&quot\;\, &quot\;Segoe UI Emoji&quot\;\, &quot\;Segoe UI Symbol&quot\;\, &quot\;Noto Color Emoji&quot\;\; white-space-collapse: preserve\;">Please consider bringing along three Valentine&#39\;s cards to share with our beloved senior community this coming February! We invite you to gather your children\, friends\, and family for a heartwarming session of crafting homemade Valentine&#39\;s cards. Your thoughtful contribution will mean the world to our cherished seniors!</span></div>\n&nbsp\;
LOCATION:Snuffer's Rockwall
UID:e.1175.142517
SEQUENCE:3
DTSTAMP:20260423T113051Z
URL:https://business.rockwallchamber.org/events/details/ssa-new-year-mixer-142517
END:VEVENT

END:VCALENDAR
