BEGIN:VCALENDAR
VERSION:2.0
PRODID:-//ChamberMaster//Event Calendar 2.0//EN
METHOD:PUBLISH
X-PUBLISHED-TTL:P3D
REFRESH-INTERVAL:P3D
CALSCALE:GREGORIAN
BEGIN:VEVENT
DTSTART:20240214T163000Z
DTEND:20240214T173000Z
X-MICROSOFT-CDO-ALLDAYEVENT:FALSE
SUMMARY:SSA & YPR Valentine Give Back!
DESCRIPTION:Join SSA & YPR on Wednesday\, February 14\, where we will be delivering Valentines Day cards to our local seniors in the community.
X-ALT-DESC;FMTTYPE=text/html:Join SSA &amp\; YPR on Wednesday\, February 14\, where we will be delivering Valentines Day cards to our local seniors in the community.&nbsp\;
LOCATION:The Rockwall Area Chamber of Commerce
UID:e.1175.142518
SEQUENCE:3
DTSTAMP:20260420T153754Z
URL:https://business.rockwallchamber.org/events/details/ssa-ypr-valentine-give-back-142518
END:VEVENT

END:VCALENDAR
