BEGIN:VCALENDAR
VERSION:2.0
PRODID:-//ChamberMaster//Event Calendar 2.0//EN
METHOD:PUBLISH
X-PUBLISHED-TTL:P3D
REFRESH-INTERVAL:P3D
CALSCALE:GREGORIAN
BEGIN:VEVENT
DTSTART:20231102T233000Z
DTEND:20231103T013000Z
X-MICROSOFT-CDO-ALLDAYEVENT:FALSE
SUMMARY:Taste of Italy | Wine and Pizza Night
DESCRIPTION:Join us for an unforgettable evening filled with the exquisite flavors of Italy at our Taste of Italy Event! Indulge in a delightful selection of authentic Italian wines and fresh-oven pizzas that will transport your taste buds to the streets of Italy.\n\n\n\nDate: Thu Nov 02\, 2023\n\nTime: 6:30-8:30pm\n\nLocation: 203 County Line Road\, Rockwall\, TX 75032\n\n\n\nImmerse yourself in the vibrant atmosphere as you savor the rich flavors of Italy. We will introduce you to a variety of Italian wines that perfectly complement the delicious pizzas! Don't miss the chance to try four varieties of Cavalli's wood-fired pizza oven! (DFW's Most Authentic Neapolitan Pizza).\n\n\n\nIf you are a vino and pizza lover\, this event is perfect for you. Don't miss out on this incredible opportunity to experience!!\n\n\n\nNO REFUNDS | NO MAKEUP DATES | NO EVENT CREDITS
X-ALT-DESC;FMTTYPE=text/html:<span style="color:rgb(0\, 0\, 0)\; font-family:square market\,helvetica neue\,helvetica\,arial\,sans-serif\; font-size:14px">Join us for an unforgettable evening filled with the exquisite flavors of Italy at our Taste of Italy Event! Indulge in a delightful selection of authentic Italian wines and fresh-oven pizzas that will transport your taste buds to the streets of Italy.<br />\n<br />\nDate: Thu Nov 02\, 2023<br />\nTime: 6:30-8:30pm<br />\nLocation: 203 County Line Road\, Rockwall\, TX 75032<br />\n<br />\nImmerse yourself in the vibrant atmosphere as you savor the rich flavors of Italy. We will introduce you to a variety of Italian wines that perfectly complement the delicious pizzas! Don&#39\;t miss the chance to try four varieties of Cavalli&rsquo\;s wood-fired pizza oven! (DFW&#39\;s Most Authentic Neapolitan Pizza).<br />\n<br />\nIf you are a vino and pizza lover\, this event is perfect for you. Don&#39\;t miss out on this incredible opportunity to experience!!<br />\n<br />\nNO REFUNDS | NO MAKEUP DATES | NO EVENT CREDITS</span>
LOCATION:203 County Line Road\, Rockwall\, TX 75032
UID:e.1175.142425
SEQUENCE:3
DTSTAMP:20260420T223547Z
URL:https://business.rockwallchamber.org/events/details/taste-of-italy-wine-and-pizza-night-142425
END:VEVENT

END:VCALENDAR
