BEGIN:VCALENDAR
VERSION:2.0
PRODID:-//ChamberMaster//Event Calendar 2.0//EN
METHOD:PUBLISH
X-PUBLISHED-TTL:P3D
REFRESH-INTERVAL:P3D
CALSCALE:GREGORIAN
BEGIN:VEVENT
DTSTART:20190213T150000Z
DTEND:20190213T170000Z
X-MICROSOFT-CDO-ALLDAYEVENT:FALSE
SUMMARY:The Business Owners Blueprint - 6 Steps to a Booming Business
DESCRIPTION:Make Your Business Work So You Don't Have To\n\nGrowing a business brings challenges. How you deal with the challenges and related growing pains is the difference between success and failure.\n\nThis is a power-packed seminar where you will learn how other business owners are growing their profits through ActionCOACH.\n\nJoin hundreds of other businesses who have worked with the ActionCOACH 6 step process to make their business work so they don't have to!\n\n\n\n \n\nWhat you'll learn at the seminar:\n\n\n	\n	Understand the difference between working ON vs IN your business.\n	\n	\n	How to move beyond the 'glass ceiling' and grow as a leader.\n	\n	\n	How to expand your vision and grow your business profits by up to 61% in 365 days.\n	\n	\n	How to leverage your time to maximize efficiency and profits.\n	\n	\n	How to create a commercial\, profitable enterprise that works without YOU!\n\n	\n\n	 \n\n	Brad will be speaking on the following topics:\n	\n	\n	6 Steps to a Business that works without you   The 6 powerful steps you must implement in your business this year!\n	\n	\n	6 Keys to a Winning Team   Without a great team\, you can only play 'small'. These 6 keys will get you the winning team you need to play at a whole new level.\n	\n	\n	5 Ways to Massive Profits   When was the last time you drove your profits up 61%? Brad will share the '5 Ways' formula proven to uncover hidden profit!\n	\n	\n	4 Key Areas to Leverage   What if you could be more profitable while doing 'more with less'? 4 essential areas to systemise your business.\n	\n	\n	Vision/Mission and Culture   These are three vital elements to the growth of your business. If you don't have strong ones\, then growth will be limited.\n\n	\n\n	 \n\n	Who will get the most from coming to this event?\n	\n	\n	You want to grow your company.\n	\n	\n	You appreciate and understand that an outside perspective will help.\n	\n	\n	You are honest with yourself and others.\n	\n	\n	You want to have more fun.\n	\n	\n	You want more free time.\n	\n	\n	You want to make a lot more money.\n	\n	\n	You know that your business is supposed to provide you with a lifestyle\, not become your life.\n	\n	\n	You want to recruit\, motivate and reward a great team\n\n	\n\n	\n\n	Light breakfast and coffee provided
X-ALT-DESC;FMTTYPE=text/html:<h2>Make Your Business Work So You Don&#39\;t Have To</h2>\n\n<p>Growing a business brings challenges. How you deal with the challenges and related growing pains is the difference between success and failure.</p>\n\n<p>This is a&nbsp\;<strong>power-packed seminar</strong>&nbsp\;where you will learn how other business owners are&nbsp\;<strong>growing their profits</strong>&nbsp\;through ActionCOACH.</p>\n\n<p>Join hundreds of other businesses who have worked with<strong>&nbsp\;the ActionCOACH 6 step process</strong>&nbsp\;to make their business work so they don&#39\;t have to!<br />\n<br />\n&nbsp\;</p>\n\n<h2>What you&#39\;ll learn at the seminar:</h2>\n\n<ul>\n	<li>\n	<p>Understand the difference&nbsp\;<strong>between working ON vs IN</strong>&nbsp\;your business.</p>\n	</li>\n	<li>\n	<p>How to move beyond the &#39\;glass ceiling&#39\; and&nbsp\;<strong>grow as a leader.</strong></p>\n	</li>\n	<li>\n	<p>How to&nbsp\;<strong>expand your vision and grow your business profits</strong>&nbsp\;by up to 61% in 365 days.</p>\n	</li>\n	<li>\n	<p>How to&nbsp\;<strong>leverage your time to maximize efficiency and profits</strong>.</p>\n	</li>\n	<li>\n	<p>How to&nbsp\;<strong>create a commercial\, profitable enterprise</strong>&nbsp\;that works without YOU!<br />\n	<br />\n	&nbsp\;</p>\n\n	<h2>Brad will be speaking on the following topics:</h2>\n	</li>\n	<li>\n	<p><strong>6 Steps to a Business that works without you&nbsp\;</strong>&ndash\; The 6 powerful steps you must implement in your business this year!</p>\n	</li>\n	<li>\n	<p><strong>6 Keys to a Winning Team</strong>&nbsp\;&ndash\; Without a great team\, you can only play &#39\;small&#39\;. These 6 keys will get you the winning team you need to play at a whole new level.</p>\n	</li>\n	<li>\n	<p><strong>5 Ways to Massive Profits&nbsp\;</strong>&ndash\; When was the last time you drove your profits up 61%? Brad will share the &#39\;5 Ways&#39\; formula proven to uncover hidden profit!</p>\n	</li>\n	<li>\n	<p><strong>4 Key Areas to Leverage</strong>&nbsp\;&ndash\; What if you could be more profitable while doing &#39\;more with less&#39\;? 4 essential areas to systemise your business.</p>\n	</li>\n	<li>\n	<p><strong>Vision/Mission and Culture&nbsp\;</strong>&ndash\; These are three vital elements to the growth of your business. If you don&#39\;t have strong ones\, then growth will be limited.<br />\n	<br />\n	&nbsp\;</p>\n\n	<h2>Who will get the most from coming to this event?</h2>\n	</li>\n	<li>\n	<p>You&nbsp\;want&nbsp\;to&nbsp\;<strong>grow&nbsp\;</strong><strong>your company</strong>.</p>\n	</li>\n	<li>\n	<p>You&nbsp\;<strong>appreciate and understand</strong>&nbsp\;that an outside perspective will help.</p>\n	</li>\n	<li>\n	<p>You are&nbsp\;<strong>honest with yourself</strong>&nbsp\;and others.</p>\n	</li>\n	<li>\n	<p>You want to&nbsp\;<strong>have more fun</strong>.</p>\n	</li>\n	<li>\n	<p>You want&nbsp\;<strong>more free time</strong>.</p>\n	</li>\n	<li>\n	<p>You want to&nbsp\;<strong>make a lot more money</strong>.</p>\n	</li>\n	<li>\n	<p>You know that your business is supposed to&nbsp\;<strong>provide you with a lifestyle</strong>\, not become your life.</p>\n	</li>\n	<li>\n	<p>You want to&nbsp\;<strong>recruit\, motivate and reward</strong>&nbsp\;a great team<br />\n	<br />\n	<br />\n	Light breakfast and coffee provided</p>\n\n	<p>&nbsp\;</p>\n	</li>\n</ul>\n
LOCATION:Location: Rockwall Area Chamber of Commerce\, 697 East Interstate 30\, Rockwall\, TX 75087
UID:e.1175.138850
SEQUENCE:3
DTSTAMP:20260424T201059Z
URL:https://business.rockwallchamber.org/events/details/the-business-owners-blueprint-6-steps-to-a-booming-business-138850
END:VEVENT

END:VCALENDAR
