BEGIN:VCALENDAR
VERSION:2.0
PRODID:-//ChamberMaster//Event Calendar 2.0//EN
METHOD:PUBLISH
X-PUBLISHED-TTL:P3D
REFRESH-INTERVAL:P3D
CALSCALE:GREGORIAN
BEGIN:VEVENT
DTSTART:20231209T180000Z
DTEND:20231209T230000Z
X-MICROSOFT-CDO-ALLDAYEVENT:FALSE
SUMMARY:Wine Wonderland
DESCRIPTION:Join our Warehouse Sale on Saturday\, December 9th from 12-5pm\n\nJingle and Mingle at our tasting! Try our favorite holiday wines\, and find those perfect gifts for your loved ones. FREE Wine Tasting for members\, and ONLY $15 for non-members!\n\nDon't forget to pre-order your personal charcuterie box\, here: https://bit.ly/charcuteriebox\n\nWe can't wait to see you there!\n\n\n\nTickets: https://bit.ly/WineWonderland\n\nCheers!
X-ALT-DESC;FMTTYPE=text/html:<p>Join our Warehouse Sale on Saturday\, December 9th from 12-5pm</p>\n\n<p>Jingle and Mingle at our tasting! Try our favorite holiday wines\, and find those perfect gifts for your loved ones. FREE Wine Tasting for members\, and ONLY $15 for non-members!</p>\n\n<p>Don&#39\;t forget to pre-order your personal charcuterie box\, here:&nbsp\;<a href="https://bit.ly/charcuteriebox?fbclid=IwAR1CROEzjwn_RK507oPLImgkjN2W2wDbDR2EGShcgGDD0eCkdSU2grlmVj0" rel="noreferrer noopener nofollow" style="box-sizing: border-box\;">https://bit.ly/charcuteriebox</a></p>\n\n<p>We can&rsquo\;t wait to see you there!<br />\n<br />\nTickets:&nbsp\;<a href="https://bit.ly/WineWonderland">https://bit.ly/WineWonderland</a></p>\n\n<p>Cheers!</p>\n
LOCATION:
UID:e.1175.142441
SEQUENCE:3
DTSTAMP:20260420T210330Z
URL:https://business.rockwallchamber.org/events/details/wine-wonderland-142441
END:VEVENT

END:VCALENDAR
