BEGIN:VCALENDAR
VERSION:2.0
PRODID:-//ChamberMaster//Event Calendar 2.0//EN
METHOD:PUBLISH
X-PUBLISHED-TTL:P3D
REFRESH-INTERVAL:P3D
CALSCALE:GREGORIAN
BEGIN:VEVENT
DTSTART:20181012T170000Z
DTEND:20181012T190000Z
X-MICROSOFT-CDO-ALLDAYEVENT:FALSE
SUMMARY:Women In Need 1st Responder Appreciation Luncheon
DESCRIPTION:Please join Women In Need in appreciation of our 1st Responders at our annual luncheon. The luncheon will be held at the Rockwall County Courthouse in Liberty Hall with lunch catered by On the Border. We will have a short appreciation presentation followed immediately by lunch. Please RSVP to Connie Pettitt or Ashley Pitts at Women In Need 903.455.4612/972.772.3000
X-ALT-DESC;FMTTYPE=text/html:Please join Women In Need in appreciation of our 1st Responders at our annual luncheon. The luncheon will be held at the Rockwall County Courthouse in Liberty Hall with lunch catered by On the Border. We will have a short appreciation presentation followed immediately by lunch. Please RSVP to Connie Pettitt or Ashley Pitts at Women In Need 903.455.4612/972.772.3000
LOCATION:Liberty Hall Rockwall County Courthouse 1111 W Yellow Jacket Ln Rockwall\, TX 75087
UID:e.1175.138423
SEQUENCE:3
DTSTAMP:20260425T105408Z
URL:https://business.rockwallchamber.org/events/details/women-in-need-1st-responder-appreciation-luncheon-138423
END:VEVENT

END:VCALENDAR
